BEGIN:VCALENDAR
VERSION:2.0
PRODID:-//Naturpark am Alten Rhein - ECPv6.15.20//NONSGML v1.0//EN
CALSCALE:GREGORIAN
METHOD:PUBLISH
X-ORIGINAL-URL:https://naturparkamaltenrhein.org
X-WR-CALDESC:Veranstaltungen für Naturpark am Alten Rhein
REFRESH-INTERVAL;VALUE=DURATION:PT1H
X-Robots-Tag:noindex
X-PUBLISHED-TTL:PT1H
BEGIN:VTIMEZONE
TZID:Europe/Vienna
BEGIN:DAYLIGHT
TZOFFSETFROM:+0100
TZOFFSETTO:+0200
TZNAME:CEST
DTSTART:20240331T010000
END:DAYLIGHT
BEGIN:STANDARD
TZOFFSETFROM:+0200
TZOFFSETTO:+0100
TZNAME:CET
DTSTART:20241027T010000
END:STANDARD
BEGIN:DAYLIGHT
TZOFFSETFROM:+0100
TZOFFSETTO:+0200
TZNAME:CEST
DTSTART:20250330T010000
END:DAYLIGHT
BEGIN:STANDARD
TZOFFSETFROM:+0200
TZOFFSETTO:+0100
TZNAME:CET
DTSTART:20251026T010000
END:STANDARD
BEGIN:DAYLIGHT
TZOFFSETFROM:+0100
TZOFFSETTO:+0200
TZNAME:CEST
DTSTART:20260329T010000
END:DAYLIGHT
BEGIN:STANDARD
TZOFFSETFROM:+0200
TZOFFSETTO:+0100
TZNAME:CET
DTSTART:20261025T010000
END:STANDARD
END:VTIMEZONE
BEGIN:VEVENT
DTSTART;TZID=Europe/Vienna:20250405T090000
DTEND;TZID=Europe/Vienna:20250405T120000
DTSTAMP:20260420T114954
CREATED:20250127T135328Z
LAST-MODIFIED:20250407T122000Z
UID:1717-1743843600-1743854400@naturparkamaltenrhein.org
SUMMARY:VERSCHOBEN: Frühjahrsputz
DESCRIPTION:Die Natur erwacht aus ihrem Winterschlaf. \nZeit für unseren Frühjahrsputz bei der Naturparkfarm. Wie jedes Jahr treffen wir uns zum Aufräumen und Saubermachen.\nWir hoffen auf rege Teilnahme\, damit unsere Naturparkfarm wieder fein rausgeputzt ist.\nAnschließend nach getaner Arbeit\, ein gemütlicher Ausklang mit einer guten Jause als Dankeschön. \nWegen Schlechtwetter wurde der Frühjahrsputz um eine Woche verschoben!\nNeuer Termin: \n\nSamstag 5. April 2025\nTreffpunkt 09:00 Uhr\nbei der Naturparkfarm Höchst
URL:https://naturparkamaltenrhein.org/veranstaltung/fruehjahrsputz-25/
LOCATION:Naturparkfarm\, Gartenstraße 45\, Höchst\, 6973\, Austria
CATEGORIES:Veranstaltung
END:VEVENT
BEGIN:VEVENT
DTSTART;TZID=Europe/Vienna:20250417T100000
DTEND;TZID=Europe/Vienna:20250417T140000
DTSTAMP:20260420T114954
CREATED:20250127T135338Z
LAST-MODIFIED:20250409T122218Z
UID:1719-1744884000-1744898400@naturparkamaltenrhein.org
SUMMARY:Gründonnerstagssuppe
DESCRIPTION:Gemeinsame Abenteuer im Wald für Großeltern mit ihren Enkelkindern. \nWenn der Frühling erwacht\, gibt es einiges zu entdecken in der Natur.\nWir sammeln frische Frühlingskräuter\, schneiden\, kochen\, rühren und machen gemeinsam unsere leckere Gründonnerstagssuppe. \nMitbringen: wetterfeste Kleidung für Kinder\, Trinkflasche\, ev. kleine Jause \n\nDonnerstag 17. April 2025\nTreffpunkt 10:00 Uhr\nam Parkplatz der Rheinauhalle in Höchst\, Rheinauweg 55\n\nUm Anmeldung wird gebeten: \n\n+43 664 5158491 (Herma Decini)\ninfo@naturparkamaltenrhein.org
URL:https://naturparkamaltenrhein.org/veranstaltung/gruendonnerstagssuppe-25/
LOCATION:Rheinau\, Rheinauweg 55\, Höchst\, 6973\, Austria
CATEGORIES:Exkursion
END:VEVENT
END:VCALENDAR