BEGIN:VCALENDAR
VERSION:2.0
PRODID:-//Naturpark am Alten Rhein - ECPv6.15.20//NONSGML v1.0//EN
CALSCALE:GREGORIAN
METHOD:PUBLISH
X-WR-CALNAME:Naturpark am Alten Rhein
X-ORIGINAL-URL:https://naturparkamaltenrhein.org
X-WR-CALDESC:Veranstaltungen für Naturpark am Alten Rhein
REFRESH-INTERVAL;VALUE=DURATION:PT1H
X-Robots-Tag:noindex
X-PUBLISHED-TTL:PT1H
BEGIN:VTIMEZONE
TZID:Europe/Vienna
BEGIN:DAYLIGHT
TZOFFSETFROM:+0100
TZOFFSETTO:+0200
TZNAME:CEST
DTSTART:20240331T010000
END:DAYLIGHT
BEGIN:STANDARD
TZOFFSETFROM:+0200
TZOFFSETTO:+0100
TZNAME:CET
DTSTART:20241027T010000
END:STANDARD
BEGIN:DAYLIGHT
TZOFFSETFROM:+0100
TZOFFSETTO:+0200
TZNAME:CEST
DTSTART:20250330T010000
END:DAYLIGHT
BEGIN:STANDARD
TZOFFSETFROM:+0200
TZOFFSETTO:+0100
TZNAME:CET
DTSTART:20251026T010000
END:STANDARD
BEGIN:DAYLIGHT
TZOFFSETFROM:+0100
TZOFFSETTO:+0200
TZNAME:CEST
DTSTART:20260329T010000
END:DAYLIGHT
BEGIN:STANDARD
TZOFFSETFROM:+0200
TZOFFSETTO:+0100
TZNAME:CET
DTSTART:20261025T010000
END:STANDARD
END:VTIMEZONE
BEGIN:VEVENT
DTSTART;TZID=Europe/Vienna:20250808T170000
DTEND;TZID=Europe/Vienna:20250808T200000
DTSTAMP:20260420T062633
CREATED:20250127T135400Z
LAST-MODIFIED:20260115T093757Z
UID:1731-1754672400-1754683200@naturparkamaltenrhein.org
SUMMARY:Jahreshauptversammlung 2025
DESCRIPTION:Sehr geehrte Mitglieder des Fördervereins Naturpark am Alten Rhein\,\nliebe Freunde und Unterstützer des Naturparks am Alten Rhein! \nIch lade Sie im Namen des Vorstandes recht herzlich ein zur \nJahreshauptversammlung 2025 \n\nFreitag 8. August 2025\nTreffpunkt 17:00 Uhr\nbei der Naturparkfarm Höchst\n\nIm Anschluss laden wir Sie wie in den letzten Jahren zu einem Imbiss in der\nNaturparkfarm ein. Dabei wird der Verein das Essen stellen\, die Getränke sind von den\nMitgliedern selbst zu bezahlen. \nDamit unser Team die Planung machen kann\, bitten wir Euch\, Eure Teilnahme per\nemail (info@naturparkamaltenrhein.org) oder telefonisch unter +43 664 5158491 (Herma Decini) bis 30. Juli\nbekanntzugeben. \nTagesordnung: \n\nBegrüßung und Feststellung der Beschlussfähigkeit\nGenehmigung des Protokolls der letzten JHV vom 2.8.2024\nBericht des Obmanns und der Obmannstellvertreterin\nBericht des Kassiers\nBericht der Rechnungsprüfer\nEntlastung des Kassiers und des Vorstandes\nNeuwahlen\nFestlegung des Mitgliedsbeitrages 2026\nJahresprogramm 2026\nGrußworte und Allfälliges\n\ngezeichnet\nWalter Niederer\, Obmann
URL:https://naturparkamaltenrhein.org/veranstaltung/jahreshauptversammlung-25/
LOCATION:Naturparkfarm\, Gartenstraße 45\, Höchst\, 6973\, Austria
CATEGORIES:Versammlung
END:VEVENT
END:VCALENDAR