BEGIN:VCALENDAR
VERSION:2.0
PRODID:-//Naturpark am Alten Rhein - ECPv6.15.20//NONSGML v1.0//EN
CALSCALE:GREGORIAN
METHOD:PUBLISH
X-ORIGINAL-URL:https://naturparkamaltenrhein.org
X-WR-CALDESC:Veranstaltungen für Naturpark am Alten Rhein
REFRESH-INTERVAL;VALUE=DURATION:PT1H
X-Robots-Tag:noindex
X-PUBLISHED-TTL:PT1H
BEGIN:VTIMEZONE
TZID:Europe/Vienna
BEGIN:DAYLIGHT
TZOFFSETFROM:+0100
TZOFFSETTO:+0200
TZNAME:CEST
DTSTART:20250330T010000
END:DAYLIGHT
BEGIN:STANDARD
TZOFFSETFROM:+0200
TZOFFSETTO:+0100
TZNAME:CET
DTSTART:20251026T010000
END:STANDARD
BEGIN:DAYLIGHT
TZOFFSETFROM:+0100
TZOFFSETTO:+0200
TZNAME:CEST
DTSTART:20260329T010000
END:DAYLIGHT
BEGIN:STANDARD
TZOFFSETFROM:+0200
TZOFFSETTO:+0100
TZNAME:CET
DTSTART:20261025T010000
END:STANDARD
BEGIN:DAYLIGHT
TZOFFSETFROM:+0100
TZOFFSETTO:+0200
TZNAME:CEST
DTSTART:20270328T010000
END:DAYLIGHT
BEGIN:STANDARD
TZOFFSETFROM:+0200
TZOFFSETTO:+0100
TZNAME:CET
DTSTART:20271031T010000
END:STANDARD
END:VTIMEZONE
BEGIN:VEVENT
DTSTART;TZID=Europe/Vienna:20260227T140000
DTEND;TZID=Europe/Vienna:20260227T170000
DTSTAMP:20260419T212812
CREATED:20260115T084645Z
LAST-MODIFIED:20260115T090753Z
UID:1906-1772200800-1772211600@naturparkamaltenrhein.org
SUMMARY:Baum- & Strauchschneidekurs
DESCRIPTION:Baum- und Strauchschneidekurs mit Marc Schneider \nfür interessierte Hobbygärtner.\nHilfreiche Tipps zur Pflege und zum richtigen Schnitt von Bäumen und Sträuchern. \n\nFreitag 27. Februar 2026\nTreffpunkt 14:00 Uhr\nim Schrebergarten von Roland Wüstner in Höchst\, Rheinauweg 81 (Hundesportanlage)\n\nFür einen anschließenden gemütlichen Ausklang vor Ort ist gesorgt. \nUm Anmeldung wird gebeten: \n\n\n\ntelefonisch +43 664 5158491 (Herma Decini) oder\nper eMail info@naturparkamaltenrhein.org
URL:https://naturparkamaltenrhein.org/veranstaltung/baumschneidekurs-26/
LOCATION:Roland Wüstner (Schrebergarten)\, Rheinauweg 81\, Höchst\, Vorarlberg\, 6973\, Austria
CATEGORIES:Kurs
END:VEVENT
END:VCALENDAR