BEGIN:VCALENDAR
VERSION:2.0
PRODID:-//Naturpark am Alten Rhein - ECPv6.15.20//NONSGML v1.0//EN
CALSCALE:GREGORIAN
METHOD:PUBLISH
X-ORIGINAL-URL:https://naturparkamaltenrhein.org
X-WR-CALDESC:Veranstaltungen für Naturpark am Alten Rhein
REFRESH-INTERVAL;VALUE=DURATION:PT1H
X-Robots-Tag:noindex
X-PUBLISHED-TTL:PT1H
BEGIN:VTIMEZONE
TZID:Europe/Vienna
BEGIN:DAYLIGHT
TZOFFSETFROM:+0100
TZOFFSETTO:+0200
TZNAME:CEST
DTSTART:20250330T010000
END:DAYLIGHT
BEGIN:STANDARD
TZOFFSETFROM:+0200
TZOFFSETTO:+0100
TZNAME:CET
DTSTART:20251026T010000
END:STANDARD
BEGIN:DAYLIGHT
TZOFFSETFROM:+0100
TZOFFSETTO:+0200
TZNAME:CEST
DTSTART:20260329T010000
END:DAYLIGHT
BEGIN:STANDARD
TZOFFSETFROM:+0200
TZOFFSETTO:+0100
TZNAME:CET
DTSTART:20261025T010000
END:STANDARD
BEGIN:DAYLIGHT
TZOFFSETFROM:+0100
TZOFFSETTO:+0200
TZNAME:CEST
DTSTART:20270328T010000
END:DAYLIGHT
BEGIN:STANDARD
TZOFFSETFROM:+0200
TZOFFSETTO:+0100
TZNAME:CET
DTSTART:20271031T010000
END:STANDARD
END:VTIMEZONE
BEGIN:VEVENT
DTSTART;TZID=Europe/Vienna:20260508T140000
DTEND;TZID=Europe/Vienna:20260508T170000
DTSTAMP:20260419T195725
CREATED:20260128T070531Z
LAST-MODIFIED:20260325T174854Z
UID:1912-1778248800-1778259600@naturparkamaltenrhein.org
SUMMARY:Kräuterexkursion
DESCRIPTION:Kräuterwanderung zu unserem Kräutergarten\nmit Naturpädagogin Petra Vetter-Gaßner zum Naturpark-Kräutergarten. \nEntdecke die Kraft der Natur. \n\nFreitag 8. Mai 2026\nTreffpunkt 14:00 Uhr\,\nbei der Rheinauhalle\, Höchst
URL:https://naturparkamaltenrhein.org/veranstaltung/kraeuterexkursion-26/
LOCATION:Rheinau\, Rheinauweg 55\, Höchst\, 6973\, Austria
CATEGORIES:Exkursion
END:VEVENT
END:VCALENDAR