BEGIN:VCALENDAR
VERSION:2.0
PRODID:-//Naturpark am Alten Rhein - ECPv6.15.20//NONSGML v1.0//EN
CALSCALE:GREGORIAN
METHOD:PUBLISH
X-ORIGINAL-URL:https://naturparkamaltenrhein.org
X-WR-CALDESC:Veranstaltungen für Naturpark am Alten Rhein
REFRESH-INTERVAL;VALUE=DURATION:PT1H
X-Robots-Tag:noindex
X-PUBLISHED-TTL:PT1H
BEGIN:VTIMEZONE
TZID:Europe/Vienna
BEGIN:DAYLIGHT
TZOFFSETFROM:+0100
TZOFFSETTO:+0200
TZNAME:CEST
DTSTART:20250330T010000
END:DAYLIGHT
BEGIN:STANDARD
TZOFFSETFROM:+0200
TZOFFSETTO:+0100
TZNAME:CET
DTSTART:20251026T010000
END:STANDARD
BEGIN:DAYLIGHT
TZOFFSETFROM:+0100
TZOFFSETTO:+0200
TZNAME:CEST
DTSTART:20260329T010000
END:DAYLIGHT
BEGIN:STANDARD
TZOFFSETFROM:+0200
TZOFFSETTO:+0100
TZNAME:CET
DTSTART:20261025T010000
END:STANDARD
BEGIN:DAYLIGHT
TZOFFSETFROM:+0100
TZOFFSETTO:+0200
TZNAME:CEST
DTSTART:20270328T010000
END:DAYLIGHT
BEGIN:STANDARD
TZOFFSETFROM:+0200
TZOFFSETTO:+0100
TZNAME:CET
DTSTART:20271031T010000
END:STANDARD
END:VTIMEZONE
BEGIN:VEVENT
DTSTART;TZID=Europe/Vienna:20261016T140000
DTEND;TZID=Europe/Vienna:20261016T170000
DTSTAMP:20260420T032551
CREATED:20260128T071025Z
LAST-MODIFIED:20260128T071803Z
UID:1931-1792159200-1792170000@naturparkamaltenrhein.org
SUMMARY:Bastelkurs Origami
DESCRIPTION:Was man aus Papier alles machen kann\nWeihnachtsengel aus Papier – Es kann auch schon ein ganz persönliches Weihnachtsgeschenk für einen lieben Menschen sein.\nWer Lust hat Origami zu lernen\, kommt einfach vorbei auf einen Bastelnachmittag mit Daniela Vogel. \nTreffpunkt: \n\nFreitag 16. Oktober 2026\nTreffpunkt 14:00 Uhr\nbei der Naturparkfarm Höchst\n\nUm Anmeldung wird gebeten: \n\ntelefonisch unter +43 664 5158491 (Herma Decini) oder\nper eMail an info@naturparkamaltenrhein.org
URL:https://naturparkamaltenrhein.org/veranstaltung/bastelkurs-origami-26/
LOCATION:Naturparkfarm\, Gartenstraße 45\, Höchst\, 6973\, Austria
CATEGORIES:Kurs
END:VEVENT
END:VCALENDAR