BEGIN:VCALENDAR
VERSION:2.0
PRODID:-//Naturpark am Alten Rhein - ECPv6.15.20//NONSGML v1.0//EN
CALSCALE:GREGORIAN
METHOD:PUBLISH
X-ORIGINAL-URL:https://naturparkamaltenrhein.org
X-WR-CALDESC:Veranstaltungen für Naturpark am Alten Rhein
REFRESH-INTERVAL;VALUE=DURATION:PT1H
X-Robots-Tag:noindex
X-PUBLISHED-TTL:PT1H
BEGIN:VTIMEZONE
TZID:Europe/Vienna
BEGIN:DAYLIGHT
TZOFFSETFROM:+0100
TZOFFSETTO:+0200
TZNAME:CEST
DTSTART:20250330T010000
END:DAYLIGHT
BEGIN:STANDARD
TZOFFSETFROM:+0200
TZOFFSETTO:+0100
TZNAME:CET
DTSTART:20251026T010000
END:STANDARD
BEGIN:DAYLIGHT
TZOFFSETFROM:+0100
TZOFFSETTO:+0200
TZNAME:CEST
DTSTART:20260329T010000
END:DAYLIGHT
BEGIN:STANDARD
TZOFFSETFROM:+0200
TZOFFSETTO:+0100
TZNAME:CET
DTSTART:20261025T010000
END:STANDARD
BEGIN:DAYLIGHT
TZOFFSETFROM:+0100
TZOFFSETTO:+0200
TZNAME:CEST
DTSTART:20270328T010000
END:DAYLIGHT
BEGIN:STANDARD
TZOFFSETFROM:+0200
TZOFFSETTO:+0100
TZNAME:CET
DTSTART:20271031T010000
END:STANDARD
END:VTIMEZONE
BEGIN:VEVENT
DTSTART;TZID=Europe/Vienna:20261113T160000
DTEND;TZID=Europe/Vienna:20261113T190000
DTSTAMP:20260420T045755
CREATED:20260128T071052Z
LAST-MODIFIED:20260128T071828Z
UID:1933-1794585600-1794596400@naturparkamaltenrhein.org
SUMMARY:Naturzauber
DESCRIPTION:Kleiner Markt und die Breagazer Bodaseetüfle Perchten verzaubern die Naturparkfarm.\n \nWenn es dunkel wird und der Nebel alles umhüllt wird es mystisch rund um die Naturparkfarm.\nGroße und kleine Perchten treiben ihre Späßchen.\nEs gibt eine kleine Showeinlage mit den Breagazer-Bodaseetüfl\, welche uns in Staunen versetzen.\nNach einem langen Sommer haben wir die Schätze vom Kräutergarten für Euch verarbeitet zu Kräutersalz oder Sauerkraut ……\nFür das leibliche Wohl ist gesorgt. Hausgemachte Torten und Kuchen versüßen den Abend.\nMusikalisch begleitet uns Wolfi mit seinem Handörgele. \n \nWir freuen uns auf Euch. \nFreitag 13. November 2026\nTreffpunkt 16:00 Uhr\nbei der Naturparkfarm Höchst \nParkmöglichkeit: Bruggerloch\, Rheinauhalle\, Turmgasse\, Kirchplatz. \nVORSICHT: Fahrverbot in der Gartenstraße\, keine Zufahrtmöglichkeit direkt zur Naturparkfarm! \nEine Anmeldung ist nicht erforderlich\,\nbringt gerne Freunde\, Bekannte\, Interessierte mit!
URL:https://naturparkamaltenrhein.org/veranstaltung/naturzauber-26/
LOCATION:Naturparkfarm\, Gartenstraße 45\, Höchst\, 6973\, Austria
CATEGORIES:Veranstaltung
END:VEVENT
BEGIN:VEVENT
DTSTART;TZID=Europe/Vienna:20261127T180000
DTEND;TZID=Europe/Vienna:20261127T210000
DTSTAMP:20260420T045755
CREATED:20260128T071118Z
LAST-MODIFIED:20260128T071118Z
UID:1937-1795802400-1795813200@naturparkamaltenrhein.org
SUMMARY:Weihnachtsfeier 2026
DESCRIPTION:Weihnachtsfeier für Vereinsmitglieder im Schwanen\nDer Förderverein Naturpark am Alten Rhein veranstaltet für seine Mitglieder eine Weihnachtsfeier.\nEs würde uns freuen\, Dich bei dieser Feier begrüßen zu können. \n\nFreitag 27. November 2026\n\nTreffpunkt um 18:00 Uhr\nim Gasthaus Schwanen\, Höchst.\n\n\nDer Nikolaus kommt und bringt jedem ein kleines Nikolosäckchen mit\n(halt nur für die Brava…).\nAnschließend gemeinsames Abendessen.\n\nUm Anmeldung wird gebeten bis 25. November \n\ntelefonisch unter +43 664 5158491 (Herma Decini) oder\nper eMail an info@naturparkamaltenrhein.org\n\nIch wünsche Euch besinnliche Weihnachten und ein gesundes\, erfolgreiches Jahr 2026! \nDer Obmann Walter Niederer
URL:https://naturparkamaltenrhein.org/veranstaltung/weihnachtsfeier-26/
LOCATION:Gasthaus Schwanen\, Brugger Straße 1\, Höchst\, 6973\, Austria
CATEGORIES:Veranstaltung
END:VEVENT
END:VCALENDAR